BEGIN:VCALENDAR
PRODID:-//climbIT//Tourenangebot//DE
VERSION:2.0
METHOD:PUBLISH
BEGIN:VEVENT
UID:tour-5d97428e-f348-4377-bb6e-01eaac120018@touren.sac-hoherrohn.ch
DTSTAMP:20260420T070517
SEQUENCE:0
CLASS:PUBLIC
TRANSP:OPAQUE
DTSTART;VALUE=DATE:20200315
DTEND;VALUE=DATE:20200318
SUMMARY:Sektion Hoher Rohn: Maighels
DESCRIPTION:Nach deiner Anmeldung und bei jeder Statusänderung wird ein Kalendereintrag per E-Mail verschickt.\n\nAktuelle Informationen\nTourenlink: https://touren.sac-hoherrohn.ch/tours/view/5d97428e-f348-4377-bb6e-01eaac120018\n\n\nDein Tourenangebot Team
END:VEVENT
END:VCALENDAR