BEGIN:VCALENDAR
PRODID:-//climbIT//Tourenangebot//DE
VERSION:2.0
METHOD:PUBLISH
BEGIN:VEVENT
UID:tour-5c93df23-f39c-44ae-bc4f-0006ac120019@touren.sac-hoherrohn.ch
DTSTAMP:20260421T103321
SEQUENCE:0
CLASS:PUBLIC
TRANSP:OPAQUE
DTSTART;VALUE=DATE:20190220
DTEND;VALUE=DATE:20190221
SUMMARY:Sektion Hoher Rohn: Hüreli 2459m
DESCRIPTION:Nach deiner Anmeldung und bei jeder Statusänderung wird ein Kalendereintrag per E-Mail verschickt.\n\nAktuelle Informationen\nTourenlink: https://touren.sac-hoherrohn.ch/tours/view/5c93df23-f39c-44ae-bc4f-0006ac120019\n\n\nDein Tourenangebot Team
END:VEVENT
END:VCALENDAR