BEGIN:VCALENDAR
PRODID:-//climbIT//Tourenangebot//DE
VERSION:2.0
METHOD:PUBLISH
BEGIN:VEVENT
UID:tour-00e7f768-98fe-4b95-aa3a-ad5c691c0cb3@touren.sac-hoherrohn.ch
DTSTAMP:20260420T151258
SEQUENCE:0
CLASS:PUBLIC
TRANSP:OPAQUE
DTSTART;VALUE=DATE:20240716
DTEND;VALUE=DATE:20240725
SUMMARY:Sektion Hoher Rohn: SENJA, Inselwanderungen in Norwegen
DESCRIPTION:Nach deiner Anmeldung und bei jeder Statusänderung wird ein Kalendereintrag per E-Mail verschickt.\n\nAktuelle Informationen\nTourenlink: https://touren.sac-hoherrohn.ch/tours/view/00e7f768-98fe-4b95-aa3a-ad5c691c0cb3\n\n\nDein Tourenangebot Team
END:VEVENT
END:VCALENDAR